BEGIN:VCALENDAR
VERSION:2.0
PRODID:-//Antiques And The Arts Weekly - ECPv6.15.20//NONSGML v1.0//EN
CALSCALE:GREGORIAN
METHOD:PUBLISH
X-ORIGINAL-URL:https://antiquesandthearts.com
X-WR-CALDESC:Events for Antiques And The Arts Weekly
REFRESH-INTERVAL;VALUE=DURATION:PT1H
X-Robots-Tag:noindex
X-PUBLISHED-TTL:PT1H
BEGIN:VTIMEZONE
TZID:America/New_York
BEGIN:DAYLIGHT
TZOFFSETFROM:-0500
TZOFFSETTO:-0400
TZNAME:EDT
DTSTART:20250309T070000
END:DAYLIGHT
BEGIN:STANDARD
TZOFFSETFROM:-0400
TZOFFSETTO:-0500
TZNAME:EST
DTSTART:20251102T060000
END:STANDARD
BEGIN:DAYLIGHT
TZOFFSETFROM:-0500
TZOFFSETTO:-0400
TZNAME:EDT
DTSTART:20260308T070000
END:DAYLIGHT
BEGIN:STANDARD
TZOFFSETFROM:-0400
TZOFFSETTO:-0500
TZNAME:EST
DTSTART:20261101T060000
END:STANDARD
BEGIN:DAYLIGHT
TZOFFSETFROM:-0500
TZOFFSETTO:-0400
TZNAME:EDT
DTSTART:20270314T070000
END:DAYLIGHT
BEGIN:STANDARD
TZOFFSETFROM:-0400
TZOFFSETTO:-0500
TZNAME:EST
DTSTART:20271107T060000
END:STANDARD
END:VTIMEZONE
BEGIN:VEVENT
DTSTART;VALUE=DATE:20260423
DTEND;VALUE=DATE:20260424
DTSTAMP:20260422T085830
CREATED:20260416T171933Z
LAST-MODIFIED:20260416T171933Z
UID:1010000510-1776902400-1776988799@antiquesandthearts.com
SUMMARY:Concord Auction Center/Auction Boss - 2026 Spring Special Sale
DESCRIPTION:concord \nTHURSDAY\, APRIL 23 at 6:00pm\n126 Hall St.\, Concord NH • 603-224-3754\nconcordauctioncenter.hibid.com \nPreview On-Site: Thursday\, April 23 8:00-4:30pm\nONLINE BIDDING ONLY\nOnline Bidding Opens Wed. Apr. 22\, 12pm & Begins to Close Thu. Apr. 23\,6pm\nPartial listing: Carousel Horses; Fine & Vintage Furniture w/ Kittinger\, Chippendale\, Henredon & More; Period Asian Chest; Tiffany Style Lamps; Sterling & jewelry; Fine Art; Model Ships; Bronze Sculpture; Antique Swords; Vintage Books; Oriental Rugs; Firearms; Hoosier Cabinet; Collector Pens; Watches; Maxfield Parrish Pieces; more items and photos to be added until sale time.\nPhotos to be added until day of sale: concordauctioncenter.hibid.com\nJames Saturley NH #4021 * Charles Moak NH #6205\n20% buyer’s premium with 3% disc\, for cash and/or approved checks. Left bids and phone bids accepted until 10:30am day of sale. We accept MC\, Visa\, Discover\, AmEx cards\, cash and approved checks. Subject to errors and omissions. \n\n								\n									\n									Tweet\n								\n							\n								\n									\n									Share\n									0\n								\n							\n								\n									\n									LinkedIn\n									0
URL:https://antiquesandthearts.com/event/concord-auction-center-auction-boss-2026-spring-special-sale/
LOCATION:126 Hall St.\, Concord NH\, 126 Hall St.\, Concord NH
CATEGORIES:Auctioneer Events
ATTACH;FMTTYPE=image/jpeg:https://antiquesandthearts.com/wp-content/uploads/2026/04/concord.jpg
END:VEVENT
END:VCALENDAR