BEGIN:VCALENDAR
VERSION:2.0
PRODID:-//Antiques And The Arts Weekly - ECPv6.15.20//NONSGML v1.0//EN
CALSCALE:GREGORIAN
METHOD:PUBLISH
X-ORIGINAL-URL:https://antiquesandthearts.com
X-WR-CALDESC:Events for Antiques And The Arts Weekly
REFRESH-INTERVAL;VALUE=DURATION:PT1H
X-Robots-Tag:noindex
X-PUBLISHED-TTL:PT1H
BEGIN:VTIMEZONE
TZID:America/New_York
BEGIN:DAYLIGHT
TZOFFSETFROM:-0500
TZOFFSETTO:-0400
TZNAME:EDT
DTSTART:20250309T070000
END:DAYLIGHT
BEGIN:STANDARD
TZOFFSETFROM:-0400
TZOFFSETTO:-0500
TZNAME:EST
DTSTART:20251102T060000
END:STANDARD
BEGIN:DAYLIGHT
TZOFFSETFROM:-0500
TZOFFSETTO:-0400
TZNAME:EDT
DTSTART:20260308T070000
END:DAYLIGHT
BEGIN:STANDARD
TZOFFSETFROM:-0400
TZOFFSETTO:-0500
TZNAME:EST
DTSTART:20261101T060000
END:STANDARD
BEGIN:DAYLIGHT
TZOFFSETFROM:-0500
TZOFFSETTO:-0400
TZNAME:EDT
DTSTART:20270314T070000
END:DAYLIGHT
BEGIN:STANDARD
TZOFFSETFROM:-0400
TZOFFSETTO:-0500
TZNAME:EST
DTSTART:20271107T060000
END:STANDARD
END:VTIMEZONE
BEGIN:VEVENT
DTSTART;VALUE=DATE:20260414
DTEND;VALUE=DATE:20260415
DTSTAMP:20260419T202903
CREATED:20260409T165625Z
LAST-MODIFIED:20260409T165625Z
UID:1010000448-1776124800-1776211199@antiquesandthearts.com
SUMMARY:Centennial & Daniel G. Hingston Inc. - Single Owner Auction
DESCRIPTION:Centennial & Daniel G. Hingston Inc. – Single Owner Auction\nTUESDAY\, APRIL 14\, 2026\ncentennialauctions.com/souter\n214 Hopkins Green Rd\, Hopkinton\, NH \ncentennial \nfrom the Trust of Former Supreme Court Justice David H. Souter A fine selection of antiques and memorabilia including items descended from the Bartlett\, Hackett & Souter Families. In Two Sessions\nTUESDAY\, APRIL 14\, 2026\nSession 1: 11AM (Online\, Absentee & Phone Bids) Session 2: 2pm (Online Only)\nIn-Person Preview: Thursday & Friday\, April 9-10\, 2026 10am-4pm 214 Hopkins Green Rd\, Hopkinton\, NH\nFor more information: centennialauctions.com/souter\nInvaluable • AuctionZip \n\n								\n									\n									Tweet\n								\n							\n								\n									\n									Share\n									0\n								\n							\n								\n									\n									LinkedIn\n									0
URL:https://antiquesandthearts.com/event/centennial-daniel-g-hingston-inc-single-owner-auction/
LOCATION:214 Hopkins Green Rd\, Hopkinton\, NH\, 214 Hopkins Green Rd\, Hopkinton\, NH
CATEGORIES:Auctioneer Events
ATTACH;FMTTYPE=image/jpeg:https://antiquesandthearts.com/wp-content/uploads/2026/04/centennial.jpg
END:VEVENT
END:VCALENDAR