BEGIN:VCALENDAR
VERSION:2.0
PRODID:-//Antiques And The Arts Weekly - ECPv6.15.20//NONSGML v1.0//EN
CALSCALE:GREGORIAN
METHOD:PUBLISH
X-ORIGINAL-URL:https://antiquesandthearts.com
X-WR-CALDESC:Events for Antiques And The Arts Weekly
REFRESH-INTERVAL;VALUE=DURATION:PT1H
X-Robots-Tag:noindex
X-PUBLISHED-TTL:PT1H
BEGIN:VTIMEZONE
TZID:America/New_York
BEGIN:DAYLIGHT
TZOFFSETFROM:-0500
TZOFFSETTO:-0400
TZNAME:EDT
DTSTART:20250309T070000
END:DAYLIGHT
BEGIN:STANDARD
TZOFFSETFROM:-0400
TZOFFSETTO:-0500
TZNAME:EST
DTSTART:20251102T060000
END:STANDARD
BEGIN:DAYLIGHT
TZOFFSETFROM:-0500
TZOFFSETTO:-0400
TZNAME:EDT
DTSTART:20260308T070000
END:DAYLIGHT
BEGIN:STANDARD
TZOFFSETFROM:-0400
TZOFFSETTO:-0500
TZNAME:EST
DTSTART:20261101T060000
END:STANDARD
BEGIN:DAYLIGHT
TZOFFSETFROM:-0500
TZOFFSETTO:-0400
TZNAME:EDT
DTSTART:20270314T070000
END:DAYLIGHT
BEGIN:STANDARD
TZOFFSETFROM:-0400
TZOFFSETTO:-0500
TZNAME:EST
DTSTART:20271107T060000
END:STANDARD
END:VTIMEZONE
BEGIN:VEVENT
DTSTART;VALUE=DATE:20260424
DTEND;VALUE=DATE:20260425
DTSTAMP:20260420T210931
CREATED:20260420T194625Z
LAST-MODIFIED:20260420T194625Z
UID:1010000790-1776988800-1777075199@antiquesandthearts.com
SUMMARY:Neue Auctions - Rooted In Beauty; The April Sale
DESCRIPTION:April 24\n23533 Mercantile Load Suite 100 Beachwood\, OH 44122 \nneue \nFine apt & antiques with depth\, character\, & lasting presence. Contemporary to antique of various categories.\nAbel G Warshawsky ‘‘Springtime Mountains\, Mallorca”\, ca. 1925\, 32 x 40 inches\nLocated in the Ohio Design Centre \n23533 Mercantile Load Suite 100 Beachwood\, OH 44122 \n(216) 245-6707 cynthia@neueauctions.com \nView Catalog & Bid through Liveauctioneers or Invaluable Absentee & Phone bidding available \nAuction License #2022000142 \n\n								\n									\n									Tweet\n								\n							\n								\n									\n									Share\n									0\n								\n							\n								\n									\n									LinkedIn\n									0
URL:https://antiquesandthearts.com/event/neue-auctions-rooted-in-beauty-the-april-sale/
LOCATION:23533 Mercantile Load Suite 100 Beachwood\, OH 44122\, 23533 Mercantile Load Suite 100 Beachwood\, OH 44122
CATEGORIES:Auctioneer Events
ATTACH;FMTTYPE=image/jpeg:https://antiquesandthearts.com/wp-content/uploads/2026/04/neue.jpg
END:VEVENT
END:VCALENDAR