BEGIN:VCALENDAR
VERSION:2.0
PRODID:-//Antiques And The Arts Weekly - ECPv6.15.20//NONSGML v1.0//EN
CALSCALE:GREGORIAN
METHOD:PUBLISH
X-ORIGINAL-URL:https://antiquesandthearts.com
X-WR-CALDESC:Events for Antiques And The Arts Weekly
REFRESH-INTERVAL;VALUE=DURATION:PT1H
X-Robots-Tag:noindex
X-PUBLISHED-TTL:PT1H
BEGIN:VTIMEZONE
TZID:America/New_York
BEGIN:DAYLIGHT
TZOFFSETFROM:-0500
TZOFFSETTO:-0400
TZNAME:EDT
DTSTART:20250309T070000
END:DAYLIGHT
BEGIN:STANDARD
TZOFFSETFROM:-0400
TZOFFSETTO:-0500
TZNAME:EST
DTSTART:20251102T060000
END:STANDARD
BEGIN:DAYLIGHT
TZOFFSETFROM:-0500
TZOFFSETTO:-0400
TZNAME:EDT
DTSTART:20260308T070000
END:DAYLIGHT
BEGIN:STANDARD
TZOFFSETFROM:-0400
TZOFFSETTO:-0500
TZNAME:EST
DTSTART:20261101T060000
END:STANDARD
BEGIN:DAYLIGHT
TZOFFSETFROM:-0500
TZOFFSETTO:-0400
TZNAME:EDT
DTSTART:20270314T070000
END:DAYLIGHT
BEGIN:STANDARD
TZOFFSETFROM:-0400
TZOFFSETTO:-0500
TZNAME:EST
DTSTART:20271107T060000
END:STANDARD
END:VTIMEZONE
BEGIN:VEVENT
DTSTART;VALUE=DATE:20260417
DTEND;VALUE=DATE:20260418
DTSTAMP:20260422T160156
CREATED:20260415T191327Z
LAST-MODIFIED:20260415T191327Z
UID:1010000490-1776384000-1776470399@antiquesandthearts.com
SUMMARY:Michaan's Auctions - April Gallery Auction
DESCRIPTION:Friday\, April 17th at 10 am\nwww.michaans.com\n2701 Monarch Street\, Alameda\, CA 94501 \nmichaan \nPreviews:\nSunday\, April 12th\, 10 am – 5 pm\nThursday\, April 16th\, noon – 5 pm \nFriday\, April 17th\, 9 am – end of auction\nKawase Hasui\, (1883 – 1957) Heirin Temple\nGent’s Cultured Pearl\, Black Onyx\, Gold Dress Set\nRed Coral\, Diamond\, 14k Yellow Gold Ring\nNative American\nPottery Turtle Bowl\nNapoleon III Boulle Games Table\nChinese Archaistic Carved Beaker Vase\nHenrietta Berk (American\, 1919 – 1990) Blue Table\nShoji Hamada\, Stoneware Plate\nFrench Renaissance Revival Carved Oak Buffet a Deux Corps\nFrederick Elliot Hart (American\, 1943-1999) Sacred Mysteries\nFive Chinese Jade Belt Buckles\nSave the Date!\nSummer Fine Sale\nThursday\, June 18th at 10 am\nPreviews:\nSunday\, June 14th\, 10 am – 5 pm\nThursday\, June 18th\, 9 am – end of auction\nMICHAAN’S Auctions\nAuctioneers & Appraisers\nwww.michaans.com\n(800) 380-9822 • (510) 740-0220\nShowroom: 2701 Monarch Street\, Alameda\, CA 94501\nBond #71393954 \n\n								\n									\n									Tweet\n								\n							\n								\n									\n									Share\n									0\n								\n							\n								\n									\n									LinkedIn\n									0
URL:https://antiquesandthearts.com/event/michaans-auctions-april-gallery-auction/
LOCATION:2701 Monarch Street\, Alameda\, CA 94501\, 2701 Monarch Street\, Alameda\, CA 94501
CATEGORIES:Auctioneer Events
ATTACH;FMTTYPE=image/jpeg:https://antiquesandthearts.com/wp-content/uploads/2026/04/michaan.jpg
END:VEVENT
END:VCALENDAR