BEGIN:VCALENDAR
VERSION:2.0
PRODID:-//Antiques And The Arts Weekly - ECPv6.15.20//NONSGML v1.0//EN
CALSCALE:GREGORIAN
METHOD:PUBLISH
X-WR-CALNAME:Antiques And The Arts Weekly
X-ORIGINAL-URL:https://antiquesandthearts.com
X-WR-CALDESC:Events for Antiques And The Arts Weekly
REFRESH-INTERVAL;VALUE=DURATION:PT1H
X-Robots-Tag:noindex
X-PUBLISHED-TTL:PT1H
BEGIN:VTIMEZONE
TZID:America/New_York
BEGIN:DAYLIGHT
TZOFFSETFROM:-0500
TZOFFSETTO:-0400
TZNAME:EDT
DTSTART:20250309T070000
END:DAYLIGHT
BEGIN:STANDARD
TZOFFSETFROM:-0400
TZOFFSETTO:-0500
TZNAME:EST
DTSTART:20251102T060000
END:STANDARD
BEGIN:DAYLIGHT
TZOFFSETFROM:-0500
TZOFFSETTO:-0400
TZNAME:EDT
DTSTART:20260308T070000
END:DAYLIGHT
BEGIN:STANDARD
TZOFFSETFROM:-0400
TZOFFSETTO:-0500
TZNAME:EST
DTSTART:20261101T060000
END:STANDARD
BEGIN:DAYLIGHT
TZOFFSETFROM:-0500
TZOFFSETTO:-0400
TZNAME:EDT
DTSTART:20270314T070000
END:DAYLIGHT
BEGIN:STANDARD
TZOFFSETFROM:-0400
TZOFFSETTO:-0500
TZNAME:EST
DTSTART:20271107T060000
END:STANDARD
END:VTIMEZONE
BEGIN:VEVENT
DTSTART;VALUE=DATE:20260425
DTEND;VALUE=DATE:20260426
DTSTAMP:20260423T210219
CREATED:20260420T192544Z
LAST-MODIFIED:20260420T192544Z
UID:1010000777-1777075200-1777161599@antiquesandthearts.com
SUMMARY:Bray & Co Auctions - The Collector’s Cabinet
DESCRIPTION:SATURDAY\, APRIL 25\, 10AM\nbrayco.com\n33 Jewell Court\, Portsmouth\, NH 03801 \nbray \nPassamaquoddy Bay by Victor de Grailly ca. 1850\nLincoln Assassination Relic. Collection of Dr. James V. Mansfield (1817-1899)\nStruggle for Liberation. Life-size Sculpture by Tito Scarponi\nBid in person or online brayco.com\nPreview April 22-24 10am to 2pm or by appointment\nRARE BOOKS\, MAPS\, MANUSCRIPTS\, FINE ART\, PHOTOGRAPHS & MORE\nU.S Army Surgeon\, Fort Sullivan\, Eastport\, Maine\nClyffe Pypard Manor House\, Wiltshire\, ca. 1754\nHarold Edgerton\, Variant Photos\, cs. 1936\ninfo@brayco.com (603) 427-8281 33 Jewell Court\, Portsmouth\, NH 03801 \n\n								\n									\n									Tweet\n								\n							\n								\n									\n									Share\n									0\n								\n							\n								\n									\n									LinkedIn\n									0
URL:https://antiquesandthearts.com/event/bray-co-auctions-the-collectors-cabinet/
LOCATION:33 Jewell Court\, Portsmouth\, NH 03801\, 33 Jewell Court\, Portsmouth\, NH 03801
CATEGORIES:Auctioneer Events
ATTACH;FMTTYPE=image/jpeg:https://antiquesandthearts.com/wp-content/uploads/2026/04/bray.jpg
END:VEVENT
END:VCALENDAR