BEGIN:VCALENDAR
VERSION:2.0
PRODID:-//Antiques And The Arts Weekly - ECPv6.15.20//NONSGML v1.0//EN
CALSCALE:GREGORIAN
METHOD:PUBLISH
X-ORIGINAL-URL:https://antiquesandthearts.com
X-WR-CALDESC:Events for Antiques And The Arts Weekly
REFRESH-INTERVAL;VALUE=DURATION:PT1H
X-Robots-Tag:noindex
X-PUBLISHED-TTL:PT1H
BEGIN:VTIMEZONE
TZID:America/New_York
BEGIN:DAYLIGHT
TZOFFSETFROM:-0500
TZOFFSETTO:-0400
TZNAME:EDT
DTSTART:20250309T070000
END:DAYLIGHT
BEGIN:STANDARD
TZOFFSETFROM:-0400
TZOFFSETTO:-0500
TZNAME:EST
DTSTART:20251102T060000
END:STANDARD
BEGIN:DAYLIGHT
TZOFFSETFROM:-0500
TZOFFSETTO:-0400
TZNAME:EDT
DTSTART:20260308T070000
END:DAYLIGHT
BEGIN:STANDARD
TZOFFSETFROM:-0400
TZOFFSETTO:-0500
TZNAME:EST
DTSTART:20261101T060000
END:STANDARD
BEGIN:DAYLIGHT
TZOFFSETFROM:-0500
TZOFFSETTO:-0400
TZNAME:EDT
DTSTART:20270314T070000
END:DAYLIGHT
BEGIN:STANDARD
TZOFFSETFROM:-0400
TZOFFSETTO:-0500
TZNAME:EST
DTSTART:20271107T060000
END:STANDARD
END:VTIMEZONE
BEGIN:VEVENT
DTSTART;VALUE=DATE:20260430
DTEND;VALUE=DATE:20260501
DTSTAMP:20260424T192405
CREATED:20260422T184444Z
LAST-MODIFIED:20260422T184444Z
UID:1010000799-1777507200-1777593599@antiquesandthearts.com
SUMMARY:5th Avenue Auctions - Spring Antiques & Jewelry Auction
DESCRIPTION:Selling Unreserved On LiveAuctioneers April 30th 2026 at 2pm edt \nwww.5thavenueNY.com\n421 West Ave. Bldg. 3\, Stamford\, CT 06902 \nfifth_avenue_full \nfifth_avenue_half \nPreview Available Now at Our Stamford\, CT Location\nPart of the Complete Collection of Conceptual Artist Ursula Meyer\nSet of six JM Frank Stamped Chairs\nLarge Collection of John Hardy Gold Sterling Jewelry\nMonumental Georges Henri Fauvel Oil Paintings\nLarge Signed Archie Help Water Statue\n18K Gold\, Bulgari B.zerol Necklace with Diamonds\nTiffany & Co. 18k Gold Necklace\nSteinway & Sons\, Baby Grand Model O Piano\nDe Sede\, Mid-Century Modern\, DS-600 Sectional Sofa\nJean-Marie Boucher\, Venus and Cupid Marble Statue with Sotheby’s Provenance\n18th Century Life-Size Statue of Hermes Height 72 in\nPair of Rams Head Bronze Mounted Gueridon Tables\nBielecky Brothers Collection\, Labeled\nThe first few pieces being sold by this highly recognized important conceptual artist URSULA MEYERS.\nMeyers was the most important artist of the New York Minimalism milieu of the 1960s. We are offering a very small sample of the entire collection that was purchased directly from the artist’s estate after her passing. Over 100 lots to come in the following months.\n5th Avenue Auctions\n421 West Ave. Bldg. 3 Stamford\, CT 06902 212-247-1097 fifthavenueauctions@gmail.com www.5thavenueNY.com\nliveauctioneers https://www.liveauctioneers.com/catalog/410104_spring-antiques-and-jewelry-auction/\n5th Avenue Auctions | 421 West Ave. Bldg. 3\, Stamford\, CT 06902 | 212-247-1097 | fifthavenueauctions@gmail.com | www.5thavenueNY.com \n\n								\n									\n									Tweet\n								\n							\n								\n									\n									Share\n									0\n								\n							\n								\n									\n									LinkedIn\n									0
URL:https://antiquesandthearts.com/event/5th-avenue-auctions-spring-antiques-jewelry-auction/
LOCATION:421 West Ave. Bldg. 3\, Stamford\, CT 06902\, 421 West Ave. Bldg. 3\, Stamford\, CT 06902
CATEGORIES:Auctioneer Events
ATTACH;FMTTYPE=image/jpeg:https://antiquesandthearts.com/wp-content/uploads/2026/04/fifth_avenue_full.jpg
END:VEVENT
END:VCALENDAR