BEGIN:VCALENDAR
VERSION:2.0
PRODID:-//Antiques And The Arts Weekly - ECPv6.15.20//NONSGML v1.0//EN
CALSCALE:GREGORIAN
METHOD:PUBLISH
X-ORIGINAL-URL:https://antiquesandthearts.com
X-WR-CALDESC:Events for Antiques And The Arts Weekly
REFRESH-INTERVAL;VALUE=DURATION:PT1H
X-Robots-Tag:noindex
X-PUBLISHED-TTL:PT1H
BEGIN:VTIMEZONE
TZID:America/New_York
BEGIN:DAYLIGHT
TZOFFSETFROM:-0500
TZOFFSETTO:-0400
TZNAME:EDT
DTSTART:20250309T070000
END:DAYLIGHT
BEGIN:STANDARD
TZOFFSETFROM:-0400
TZOFFSETTO:-0500
TZNAME:EST
DTSTART:20251102T060000
END:STANDARD
BEGIN:DAYLIGHT
TZOFFSETFROM:-0500
TZOFFSETTO:-0400
TZNAME:EDT
DTSTART:20260308T070000
END:DAYLIGHT
BEGIN:STANDARD
TZOFFSETFROM:-0400
TZOFFSETTO:-0500
TZNAME:EST
DTSTART:20261101T060000
END:STANDARD
BEGIN:DAYLIGHT
TZOFFSETFROM:-0500
TZOFFSETTO:-0400
TZNAME:EDT
DTSTART:20270314T070000
END:DAYLIGHT
BEGIN:STANDARD
TZOFFSETFROM:-0400
TZOFFSETTO:-0500
TZNAME:EST
DTSTART:20271107T060000
END:STANDARD
END:VTIMEZONE
BEGIN:VEVENT
DTSTART;VALUE=DATE:20260425
DTEND;VALUE=DATE:20260427
DTSTAMP:20260424T210136
CREATED:20260422T195330Z
LAST-MODIFIED:20260422T195330Z
UID:1010000816-1777075200-1777247999@antiquesandthearts.com
SUMMARY:Stormville Airport - Antique Show & Flea Market
DESCRIPTION:April 25 & 26 8am-4pm\n428 Rt. 216\, Stormville\, NY\nwww.stormvilleairportfleamarkets.com \nstormville_airport \nSPRINGTIME IN THE COUNTRY\nFree Admission & Parking ~ No Pets\n8am-4pm ~ Rain or Shine ~ Over 400 Exhibitors \nMay 23 & 24 | July 4 | Sept 5 & 6 | Oct 10 & 11 | Nov 7\n428 Rt. 216\, Stormville\, NY\nExhibitor Space Available 845-221-6561\nwww.stormvilleairportfleamarkets.com\nAs Seen On HGTV-Flea Market Flip \n\n								\n									\n									Tweet\n								\n							\n								\n									\n									Share\n									0\n								\n							\n								\n									\n									LinkedIn\n									0
URL:https://antiquesandthearts.com/event/stormville-airport-antique-show-flea-market/
LOCATION:428 Rt. 216\, Stormville\, NY\, 428 Rt. 216\, Stormville\, NY
CATEGORIES:Shows & Fairs
ATTACH;FMTTYPE=image/jpeg:https://antiquesandthearts.com/wp-content/uploads/2026/04/stormville_airport.jpg
END:VEVENT
END:VCALENDAR