BEGIN:VCALENDAR
VERSION:2.0
PRODID:-//Antiques And The Arts Weekly - ECPv6.15.20//NONSGML v1.0//EN
CALSCALE:GREGORIAN
METHOD:PUBLISH
X-WR-CALNAME:Antiques And The Arts Weekly
X-ORIGINAL-URL:https://antiquesandthearts.com
X-WR-CALDESC:Events for Antiques And The Arts Weekly
REFRESH-INTERVAL;VALUE=DURATION:PT1H
X-Robots-Tag:noindex
X-PUBLISHED-TTL:PT1H
BEGIN:VTIMEZONE
TZID:America/New_York
BEGIN:DAYLIGHT
TZOFFSETFROM:-0500
TZOFFSETTO:-0400
TZNAME:EDT
DTSTART:20250309T070000
END:DAYLIGHT
BEGIN:STANDARD
TZOFFSETFROM:-0400
TZOFFSETTO:-0500
TZNAME:EST
DTSTART:20251102T060000
END:STANDARD
BEGIN:DAYLIGHT
TZOFFSETFROM:-0500
TZOFFSETTO:-0400
TZNAME:EDT
DTSTART:20260308T070000
END:DAYLIGHT
BEGIN:STANDARD
TZOFFSETFROM:-0400
TZOFFSETTO:-0500
TZNAME:EST
DTSTART:20261101T060000
END:STANDARD
BEGIN:DAYLIGHT
TZOFFSETFROM:-0500
TZOFFSETTO:-0400
TZNAME:EDT
DTSTART:20270314T070000
END:DAYLIGHT
BEGIN:STANDARD
TZOFFSETFROM:-0400
TZOFFSETTO:-0500
TZNAME:EST
DTSTART:20271107T060000
END:STANDARD
END:VTIMEZONE
BEGIN:VEVENT
DTSTART;VALUE=DATE:20260425
DTEND;VALUE=DATE:20260426
DTSTAMP:20260422T213011
CREATED:20260422T190112Z
LAST-MODIFIED:20260422T190112Z
UID:1010000801-1777075200-1777161599@antiquesandthearts.com
SUMMARY:Gurley - The Estate of Beverly BaRoss Antiques and Folk Art from the Maine Coast
DESCRIPTION:April 25th at 10am\nOnline at www.liveauctioneers.com/auctioneer/9548\n581 U.S. Route 1\, Scarborough\, ME \ngurley \nGurley Auction Company Presents …\nThe Estate of Beverly BaRoss Antiques and Folk Art from the Maine Coast\nPreview Every Day But Tuesday\, 10am to 5pm\, at Gurley Antiques Gallery. 581 U.S. Route 1\, Scarborough\, ME. Please feel free to call us for further description and additional photos. (207) 596′ 4255\nTERMS: All Items Sold AS IS WHERE IS. 20% Buyers Premium. Cash. & Check Accepted. Credit Cards will be charged 23% Buyers Premium. Items must be picked up at Gurley Antiques Gallery within one week of sale. We are open every day but Tuesday from 10am to 5pm. Failure to pick up items within this time frame will result in forfeiture of sale. In house shipping is available for smaller items. The buyer is responsible for all shipping costs\, including materials\, and insurance. We reserve the right to use a third-party shipper for fragile items. We urge buyers to research the cost of shipping before bidding. There will be no refunds. Joshua Gurley ME Lic#AR1358 \n\n								\n									\n									Tweet\n								\n							\n								\n									\n									Share\n									0\n								\n							\n								\n									\n									LinkedIn\n									0
URL:https://antiquesandthearts.com/event/gurley-the-estate-of-beverly-baross-antiques-and-folk-art-from-the-maine-coast/
LOCATION:581 U.S. Route 1\, Scarborough\, ME\, 581 U.S. Route 1\, Scarborough\, ME
CATEGORIES:Auctioneer Events
ATTACH;FMTTYPE=image/jpeg:https://antiquesandthearts.com/wp-content/uploads/2026/04/gurley.jpg
END:VEVENT
END:VCALENDAR