BEGIN:VCALENDAR
VERSION:2.0
PRODID:-//Antiques And The Arts Weekly - ECPv6.15.20//NONSGML v1.0//EN
CALSCALE:GREGORIAN
METHOD:PUBLISH
X-ORIGINAL-URL:https://antiquesandthearts.com
X-WR-CALDESC:Events for Antiques And The Arts Weekly
REFRESH-INTERVAL;VALUE=DURATION:PT1H
X-Robots-Tag:noindex
X-PUBLISHED-TTL:PT1H
BEGIN:VTIMEZONE
TZID:America/New_York
BEGIN:DAYLIGHT
TZOFFSETFROM:-0500
TZOFFSETTO:-0400
TZNAME:EDT
DTSTART:20250309T070000
END:DAYLIGHT
BEGIN:STANDARD
TZOFFSETFROM:-0400
TZOFFSETTO:-0500
TZNAME:EST
DTSTART:20251102T060000
END:STANDARD
BEGIN:DAYLIGHT
TZOFFSETFROM:-0500
TZOFFSETTO:-0400
TZNAME:EDT
DTSTART:20260308T070000
END:DAYLIGHT
BEGIN:STANDARD
TZOFFSETFROM:-0400
TZOFFSETTO:-0500
TZNAME:EST
DTSTART:20261101T060000
END:STANDARD
BEGIN:DAYLIGHT
TZOFFSETFROM:-0500
TZOFFSETTO:-0400
TZNAME:EDT
DTSTART:20270314T070000
END:DAYLIGHT
BEGIN:STANDARD
TZOFFSETFROM:-0400
TZOFFSETTO:-0500
TZNAME:EST
DTSTART:20271107T060000
END:STANDARD
END:VTIMEZONE
BEGIN:VEVENT
DTSTART;VALUE=DATE:20260502
DTEND;VALUE=DATE:20260504
DTSTAMP:20260420T204844
CREATED:20260420T194052Z
LAST-MODIFIED:20260420T194052Z
UID:1010000787-1777680000-1777852799@antiquesandthearts.com
SUMMARY:Mid Atlantic Antique & Garden Festival
DESCRIPTION:MAY 2-3\, 2026\nSaturday 10-5 • Sunday 10-4\nAix la Chapelle Farm 19130 Jerusalem Rd\, Poolesville\, MD 20837\nRain or Shine\nOver 60 nationally renowned dealers showcasing: antiques\, folk art\, garden\, fine art and design.\nmidatlanticantiquesfestival.com \n  \nmid_atlantic_antique_garden_festival \n\n								\n									\n									Tweet\n								\n							\n								\n									\n									Share\n									0\n								\n							\n								\n									\n									LinkedIn\n									0
URL:https://antiquesandthearts.com/event/mid-atlantic-antique-garden-festival/
LOCATION:Aix la Chapelle Farm 19130 Jerusalem Rd\, Poolesville\, MD 20837\, Aix la Chapelle Farm 19130 Jerusalem Rd\, Poolesville\, MD 20837
CATEGORIES:Shows & Fairs
ATTACH;FMTTYPE=image/jpeg:https://antiquesandthearts.com/wp-content/uploads/2026/04/mid_atlantic_antique_garden_festival.jpg
END:VEVENT
END:VCALENDAR