BEGIN:VCALENDAR
VERSION:2.0
PRODID:-//Antiques And The Arts Weekly - ECPv6.15.20//NONSGML v1.0//EN
CALSCALE:GREGORIAN
METHOD:PUBLISH
X-WR-CALNAME:Antiques And The Arts Weekly
X-ORIGINAL-URL:https://antiquesandthearts.com
X-WR-CALDESC:Events for Antiques And The Arts Weekly
REFRESH-INTERVAL;VALUE=DURATION:PT1H
X-Robots-Tag:noindex
X-PUBLISHED-TTL:PT1H
BEGIN:VTIMEZONE
TZID:America/New_York
BEGIN:DAYLIGHT
TZOFFSETFROM:-0500
TZOFFSETTO:-0400
TZNAME:EDT
DTSTART:20250309T070000
END:DAYLIGHT
BEGIN:STANDARD
TZOFFSETFROM:-0400
TZOFFSETTO:-0500
TZNAME:EST
DTSTART:20251102T060000
END:STANDARD
BEGIN:DAYLIGHT
TZOFFSETFROM:-0500
TZOFFSETTO:-0400
TZNAME:EDT
DTSTART:20260308T070000
END:DAYLIGHT
BEGIN:STANDARD
TZOFFSETFROM:-0400
TZOFFSETTO:-0500
TZNAME:EST
DTSTART:20261101T060000
END:STANDARD
BEGIN:DAYLIGHT
TZOFFSETFROM:-0500
TZOFFSETTO:-0400
TZNAME:EDT
DTSTART:20270314T070000
END:DAYLIGHT
BEGIN:STANDARD
TZOFFSETFROM:-0400
TZOFFSETTO:-0500
TZNAME:EST
DTSTART:20271107T060000
END:STANDARD
END:VTIMEZONE
BEGIN:VEVENT
DTSTART;VALUE=DATE:20260512
DTEND;VALUE=DATE:20260518
DTSTAMP:20260421T111517
CREATED:20260415T185215Z
LAST-MODIFIED:20260415T185215Z
UID:1010000484-1778544000-1779062399@antiquesandthearts.com
SUMMARY:Collins Apple Barn Antique Shows
DESCRIPTION:Daybreak\, May 12-17\nBrimfield\, MA\nwww.collinsapplebarn.com \ncollins_apple_barn \nPromoting Quality Dealers Prime Space Available\nPlus On-Site Deli/Bake Shop Serving the Best Breakfast & Lunch in Brimfield\nDealer Information:\nCollins Apple Barn\, PO Box 394\, Brimfield\, MA 01010 413-237-6659 • During Show Hours: 413-245-4575 2026 Show Dates: • May 12-17 • July 14-19 • Sept. 8-13 collinsapplebarn@charter.net • www.collinsapplebarn.com \n\n								\n									\n									Tweet\n								\n							\n								\n									\n									Share\n									0\n								\n							\n								\n									\n									LinkedIn\n									0
URL:https://antiquesandthearts.com/event/collins-apple-barn-antique-shows/
LOCATION:Brimfield\, MA\, Brimfield\, MA
CATEGORIES:Shows & Fairs
ATTACH;FMTTYPE=image/jpeg:https://antiquesandthearts.com/wp-content/uploads/2026/04/collins_apple_barn.jpg
END:VEVENT
END:VCALENDAR