BEGIN:VCALENDAR
VERSION:2.0
PRODID:-//Antiques And The Arts Weekly - ECPv6.15.20//NONSGML v1.0//EN
CALSCALE:GREGORIAN
METHOD:PUBLISH
X-WR-CALNAME:Antiques And The Arts Weekly
X-ORIGINAL-URL:https://antiquesandthearts.com
X-WR-CALDESC:Events for Antiques And The Arts Weekly
REFRESH-INTERVAL;VALUE=DURATION:PT1H
X-Robots-Tag:noindex
X-PUBLISHED-TTL:PT1H
BEGIN:VTIMEZONE
TZID:America/New_York
BEGIN:DAYLIGHT
TZOFFSETFROM:-0500
TZOFFSETTO:-0400
TZNAME:EDT
DTSTART:20250309T070000
END:DAYLIGHT
BEGIN:STANDARD
TZOFFSETFROM:-0400
TZOFFSETTO:-0500
TZNAME:EST
DTSTART:20251102T060000
END:STANDARD
BEGIN:DAYLIGHT
TZOFFSETFROM:-0500
TZOFFSETTO:-0400
TZNAME:EDT
DTSTART:20260308T070000
END:DAYLIGHT
BEGIN:STANDARD
TZOFFSETFROM:-0400
TZOFFSETTO:-0500
TZNAME:EST
DTSTART:20261101T060000
END:STANDARD
BEGIN:DAYLIGHT
TZOFFSETFROM:-0500
TZOFFSETTO:-0400
TZNAME:EDT
DTSTART:20270314T070000
END:DAYLIGHT
BEGIN:STANDARD
TZOFFSETFROM:-0400
TZOFFSETTO:-0500
TZNAME:EST
DTSTART:20271107T060000
END:STANDARD
END:VTIMEZONE
BEGIN:VEVENT
DTSTART;VALUE=DATE:20260320
DTEND;VALUE=DATE:20260323
DTSTAMP:20260420T221104
CREATED:20260320T175426Z
LAST-MODIFIED:20260320T175426Z
UID:1010000396-1773964800-1774223999@antiquesandthearts.com
SUMMARY:Sanford L. Smith Associates – Ephemera Fair Antiquarian & Collectable Paper For Everyone
DESCRIPTION:For tickets and information: esafair.com\nEphemera Fair is presented by the Ephemera Society of America\nPRODUCED & MANAGED BY SANFORD L. SMITH + ASSOCIATES \n\n								\n									\n									Tweet\n								\n							\n								\n									\n									Share\n									0\n								\n							\n								\n									\n									LinkedIn\n									0
URL:https://antiquesandthearts.com/event/sanford-l-smith-associates-ephemera-fair-antiquarian-collectable-paper-for-everyone-2/
LOCATION:Hyatt Regency Old Greenwich\, CT\, United States
ATTACH;FMTTYPE=image/jpeg:https://antiquesandthearts.com/wp-content/uploads/2026/03/ephemera.jpeg
END:VEVENT
BEGIN:VEVENT
DTSTART;VALUE=DATE:20260320
DTEND;VALUE=DATE:20260323
DTSTAMP:20260420T221104
CREATED:20260320T161926Z
LAST-MODIFIED:20260320T161926Z
UID:1010000387-1773964800-1774223999@antiquesandthearts.com
SUMMARY:Sanford L. Smith Associates – Ephemera Fair Antiquarian & Collectable Paper For Everyone
DESCRIPTION:  \n \nFor tickets and information: esafair.com\nEphemera Fair is presented by the Ephemera Society of America\nPRODUCED & MANAGED BY SANFORD L. SMITH + ASSOCIATES \n\n								\n									\n									Tweet\n								\n							\n								\n									\n									Share\n									0\n								\n							\n								\n									\n									LinkedIn\n									0
URL:https://antiquesandthearts.com/event/sanford-l-smith-associates-ephemera-fair-antiquarian-collectable-paper-for-everyone/
LOCATION:Hyatt Regency Old Greenwich\, CT\, United States
ATTACH;FMTTYPE=image/jpeg:https://antiquesandthearts.com/wp-content/uploads/2026/03/ephemera.jpg
END:VEVENT
END:VCALENDAR