BEGIN:VCALENDAR
VERSION:2.0
PRODID:-//Antiques And The Arts Weekly - ECPv6.15.20//NONSGML v1.0//EN
CALSCALE:GREGORIAN
METHOD:PUBLISH
X-ORIGINAL-URL:https://antiquesandthearts.com
X-WR-CALDESC:Events for Antiques And The Arts Weekly
REFRESH-INTERVAL;VALUE=DURATION:PT1H
X-Robots-Tag:noindex
X-PUBLISHED-TTL:PT1H
BEGIN:VTIMEZONE
TZID:America/New_York
BEGIN:DAYLIGHT
TZOFFSETFROM:-0500
TZOFFSETTO:-0400
TZNAME:EDT
DTSTART:20250309T070000
END:DAYLIGHT
BEGIN:STANDARD
TZOFFSETFROM:-0400
TZOFFSETTO:-0500
TZNAME:EST
DTSTART:20251102T060000
END:STANDARD
BEGIN:DAYLIGHT
TZOFFSETFROM:-0500
TZOFFSETTO:-0400
TZNAME:EDT
DTSTART:20260308T070000
END:DAYLIGHT
BEGIN:STANDARD
TZOFFSETFROM:-0400
TZOFFSETTO:-0500
TZNAME:EST
DTSTART:20261101T060000
END:STANDARD
BEGIN:DAYLIGHT
TZOFFSETFROM:-0500
TZOFFSETTO:-0400
TZNAME:EDT
DTSTART:20270314T070000
END:DAYLIGHT
BEGIN:STANDARD
TZOFFSETFROM:-0400
TZOFFSETTO:-0500
TZNAME:EST
DTSTART:20271107T060000
END:STANDARD
END:VTIMEZONE
BEGIN:VEVENT
DTSTART;VALUE=DATE:20260424
DTEND;VALUE=DATE:20260425
DTSTAMP:20260420T235633
CREATED:20260420T193928Z
LAST-MODIFIED:20260420T193928Z
UID:1010000786-1776988800-1777075199@antiquesandthearts.com
SUMMARY:Martin Auctioneers Inc. - Select 55th Annual Spring Auction
DESCRIPTION:Friday\, April 24\, 2026 at 9am\nLebanon Fairgrounds Expo Center Lebanon\, PA 17402\nwww.martinauctioneers.com \nmartin \nLARGE ONE-DAY AUCTION Horse Drawn Coaches\, Carriages\, Sleighs\, Appointments & Antiques\nFor more information\, updates\, large photo gallery\, terms & conditions\, view our website www.martinauctioneers.com\nAuctionZip – ID#1891\nPlan to attend our 55th Select Auction! We will be selling with 2-3 Auction Rings This auction will offer approximately 150+ carriages & sleighs\nPreview: Thurs. April 23\,10am-6pm & Fri. April 24\, 8am-6pm\nAUCTION HIGHLIGHTS\nHorse Drawn Coaches\, Carriages\, & Sleighs; Driving & Riding\, Appointments; Harness; Framed Prints & Pictures; Coach & Carriage Lamps; Coaching Horns; Inventory of Top Hats; Stable Fixtures; Agricultural Equipment & Items; Slot Machines & Coca Cola Machine Equine and Non-Horse Related Collectibles; Antiques & Memorabilia.\nThis is only a brief listing at the time of publication.\nCARRIAGE CONSIGNMENTS STILL BEING ACCEPTED Must contact the office prior to delivering consignments to auction site.\nCall now to be placed on our emailing list for this event!\nRestored Brewster & Co. Bachelor Brougham #25311\nOriginal Two Horse Ice Wagon (Barn Find in Milton PA where it was originally used)\nBrewster & Co. Standard Light Park Drag Serial No. 24523. Brewster records show this was sold to Mr Hanis Fahnestock April 25th\, 1904.\nLive In-Person on location at 9am • Online (Webcast begins at 11am edt) to bid online\, go to martinauctioneers.hibid.com Absentee & limited phone bids for qualified buyer\nAll Vehicles and Items Sold “As Is\, Where Is.”\nPurchaser must understand that he/she is buying property entirely upon his/her own examination and opinion. Buyer’s Premiums apply.\nNOTICE: Martin Auctioneers has limited office hours.\nPlease leave a voice message or send an email to: martinauctioneers@frontiemet.net We are unable to guarantee correspondence via facebook or text.\nCHECK WEBSITE FOR UPDATES\nNo dogs or pets will be allowed in any and all auction areas.\nCourtesy will be given to service animals.\nPaul Z. Martin\, Jr.Auction Manager & Consultant P.O. Box 99 «New Holland\, PA 17557\nPhone: 717-354-6671 • Fax: 717-354-8248\nmartinauctioneers@frontiernet.net • info@martinauctioneers.com\nwww.martinauctioneers.com\nAuctioneer: Paul Z. Martin\, Jr • PA Lie# AY 000144L / FL Lic#AU588\nAmerica’s Premier Carriage Auction Company \n\n								\n									\n									Tweet\n								\n							\n								\n									\n									Share\n									0\n								\n							\n								\n									\n									LinkedIn\n									0
URL:https://antiquesandthearts.com/event/martin-auctioneers-inc-select-55th-annual-spring-auction/
LOCATION:Lebanon Fairgrounds Expo Center Lebanon\, PA 17402\, Lebanon Fairgrounds Expo Center Lebanon\, PA 17402
CATEGORIES:Auctioneer Events
ATTACH;FMTTYPE=image/jpeg:https://antiquesandthearts.com/wp-content/uploads/2026/04/martin.jpg
END:VEVENT
END:VCALENDAR