BEGIN:VCALENDAR
VERSION:2.0
PRODID:-//Antiques And The Arts Weekly - ECPv6.15.20//NONSGML v1.0//EN
CALSCALE:GREGORIAN
METHOD:PUBLISH
X-WR-CALNAME:Antiques And The Arts Weekly
X-ORIGINAL-URL:https://antiquesandthearts.com
X-WR-CALDESC:Events for Antiques And The Arts Weekly
REFRESH-INTERVAL;VALUE=DURATION:PT1H
X-Robots-Tag:noindex
X-PUBLISHED-TTL:PT1H
BEGIN:VTIMEZONE
TZID:America/New_York
BEGIN:DAYLIGHT
TZOFFSETFROM:-0500
TZOFFSETTO:-0400
TZNAME:EDT
DTSTART:20250309T070000
END:DAYLIGHT
BEGIN:STANDARD
TZOFFSETFROM:-0400
TZOFFSETTO:-0500
TZNAME:EST
DTSTART:20251102T060000
END:STANDARD
BEGIN:DAYLIGHT
TZOFFSETFROM:-0500
TZOFFSETTO:-0400
TZNAME:EDT
DTSTART:20260308T070000
END:DAYLIGHT
BEGIN:STANDARD
TZOFFSETFROM:-0400
TZOFFSETTO:-0500
TZNAME:EST
DTSTART:20261101T060000
END:STANDARD
BEGIN:DAYLIGHT
TZOFFSETFROM:-0500
TZOFFSETTO:-0400
TZNAME:EDT
DTSTART:20270314T070000
END:DAYLIGHT
BEGIN:STANDARD
TZOFFSETFROM:-0400
TZOFFSETTO:-0500
TZNAME:EST
DTSTART:20271107T060000
END:STANDARD
END:VTIMEZONE
BEGIN:VEVENT
DTSTART;VALUE=DATE:20260425
DTEND;VALUE=DATE:20260427
DTSTAMP:20260422T174241
CREATED:20260420T195327Z
LAST-MODIFIED:20260420T195327Z
UID:1010000794-1777075200-1777247999@antiquesandthearts.com
SUMMARY:Soulis Auctions - World Treasures From The Estate Of John Adair
DESCRIPTION:Saturday\, April 25 & Sunday\, April 26 1pm Each Day\nLone Jack/Kansas City\, Missouri\nSoulisAuctions.com \nsoulis \nTwo Single-Owner Sessions\nA Fine 18C. George III Double Chair Back Settee\nA Collection of Japanese Porcelain with Black Ships and Dutch Traders\nFrom the Collection of Antique Japanese Fireman’s Jackets\nA 19th Century Chinese Fish Bowl with Copper Red Dragons and Qianlong Mark\nFine Gold and Gemstone Jewelry\nPaul Jenkins Watercolor (Phenomena Window) 31 x 43 Inches\nPost-war Modern Graphics by Calder\, Vassarely\, Max\, and Many Others\nA Collection of Chinese and Japanese Porcelain\nNew York Card Table Attr Gilbert Ash\, Circa 1740. Previously the Collection of Mrs. J. Amory Haskell\nRare Large Japanese Woodblock Prints\, Maps and Sugoroku\nChikubosai Maeda I and II Buddhist and Tea Ceremony Baskets\nAn 18C. Mahogany Chippendale Silver Table\nFlame Birch Federal Chest Attr Nathan Lombard of Sturbridg Mass\nIron Mounted Keyaki Tansus\nWilliam Quinn Oil In Situ\nA Selection of Rare 18th and 19th Century Kuruma-Dansu and Tansu\nFine and Rare Japanse Ikebana Flower Baskets\nAmerican Sheraton Sideboard attributed to John and Thomas Seymour\, Boston\nOne of Seventy-five Antique Caucasian Rugs\nVery Rare George I Compass Seat Library Chairs with Tripod Front\nLive Auction with Telephone\, Internet and Absentee Bidding In-house Shipping | 18% Base In-house Buyer’s Premium\nSoulis Auctions\n816.697.3830 • SoulisAuctions.com \n\n								\n									\n									Tweet\n								\n							\n								\n									\n									Share\n									0\n								\n							\n								\n									\n									LinkedIn\n									0
URL:https://antiquesandthearts.com/event/soulis-auctions-world-treasures-from-the-estate-of-john-adair/
LOCATION:Lone Jack/Kansas City\, Missouri\, Lone Jack/Kansas City\, Missouri
ATTACH;FMTTYPE=image/jpeg:https://antiquesandthearts.com/wp-content/uploads/2026/04/soulis.jpg
END:VEVENT
END:VCALENDAR