BEGIN:VCALENDAR
VERSION:2.0
PRODID:-//Antiques And The Arts Weekly - ECPv6.15.20//NONSGML v1.0//EN
CALSCALE:GREGORIAN
METHOD:PUBLISH
X-WR-CALNAME:Antiques And The Arts Weekly
X-ORIGINAL-URL:https://antiquesandthearts.com
X-WR-CALDESC:Events for Antiques And The Arts Weekly
REFRESH-INTERVAL;VALUE=DURATION:PT1H
X-Robots-Tag:noindex
X-PUBLISHED-TTL:PT1H
BEGIN:VTIMEZONE
TZID:America/New_York
BEGIN:DAYLIGHT
TZOFFSETFROM:-0500
TZOFFSETTO:-0400
TZNAME:EDT
DTSTART:20250309T070000
END:DAYLIGHT
BEGIN:STANDARD
TZOFFSETFROM:-0400
TZOFFSETTO:-0500
TZNAME:EST
DTSTART:20251102T060000
END:STANDARD
BEGIN:DAYLIGHT
TZOFFSETFROM:-0500
TZOFFSETTO:-0400
TZNAME:EDT
DTSTART:20260308T070000
END:DAYLIGHT
BEGIN:STANDARD
TZOFFSETFROM:-0400
TZOFFSETTO:-0500
TZNAME:EST
DTSTART:20261101T060000
END:STANDARD
BEGIN:DAYLIGHT
TZOFFSETFROM:-0500
TZOFFSETTO:-0400
TZNAME:EDT
DTSTART:20270314T070000
END:DAYLIGHT
BEGIN:STANDARD
TZOFFSETFROM:-0400
TZOFFSETTO:-0500
TZNAME:EST
DTSTART:20271107T060000
END:STANDARD
END:VTIMEZONE
BEGIN:VEVENT
DTSTART;VALUE=DATE:20260322
DTEND;VALUE=DATE:20260323
DTSTAMP:20260421T193742
CREATED:20260320T204620Z
LAST-MODIFIED:20260320T204620Z
UID:1010000404-1774137600-1774223999@antiquesandthearts.com
SUMMARY:Main Street Auction – March Online Auction
DESCRIPTION:Time: 11 am \nNORFOLK\, WASHINGTON\, AND MIDDLEBURY\, CT ESTATES\nOnline only liveauctioneers.com and bidsquare.com\nPreview by appointment Saturday\, March 21\, 10am-2pm – Text 203-233-1736 to schedule • 161 Main St. S.\, Woodbury\, CT\nSALE TO INCLUDE Antiques\, fine art\, prints\, and multiples\, sculptures\, decorative arts\, architectural items\, country furniture\, MCM pottery\, folk art\, photographs\, Native American and Inuit items\, sterling silver\, carved decoys\, and more.\nHIGHLIGHTS INCLUDE signed and numbered lithographs by Salvatore Dali\, Joan Miro\, WalasseTing\, Roger Bezombes\, Hunt Slonem\, Dennis Oppenheim\, Colette Justine\, Vasilio Janopoulos\, Jack Radetsky\, Robert Anderson\, Bruce Dorfman\, Enrico Baj\, Jean-Michel Folon\, Kimber Smith\, Moshe Gat and more.\nPAINTINGS BY ARTISTS INCLUDE Ossip Leonovitch Linde\, Ian Maclver\, Anna Rodgers Minor\, Helen Roache\, Wolff\, Alfred Birdsey\, Henry Barribal\, multiple 19th c portraits\nNATIVE AMERICAN ITEMS INCLUDE war club w stone head\, 2 large Inuit Eskimo stone carvings\, several paintings\, Navaho blanket\, vintage papoose\nFolk art including American Eagle wafer iron\, 2 rooster weathervanes\, decoys\, hooked and braided rugs\, painted pantry box\, pr carved head bookends\, baskets\, bowls\, Trucci glass sculpture\, pr bronze bookends by Higgins and more. FURNITURE TO INCLUDE Chippendale 4 drawer chest\, painted step back cupboard\, button foot tea table\, stretcher base tea table\, set birdcage Windsor chairs\, Bannister back armchair\, 2 corner cupboards\, rare small dive dry sink\, painted dry sink\, country 1 drawer stand\, MCM dining table and 6 chairs\, Windsor armchairs\, Federal MT commode\, white painted washstand\, and more.\nMain Street Auction | 161 Main St S | Woodbury CT 06798 | 203-233-1736\nSale online only at Liveauctioneers.com and Bidsquare.com. Absentee bids accepted in person only. \n\n								\n									\n									Tweet\n								\n							\n								\n									\n									Share\n									0\n								\n							\n								\n									\n									LinkedIn\n									0
URL:https://antiquesandthearts.com/event/main-street-auction-march-online-auction/
LOCATION:Main Street Auction
ATTACH;FMTTYPE=image/jpeg:https://antiquesandthearts.com/wp-content/uploads/2026/03/main-street.jpeg
END:VEVENT
END:VCALENDAR