BEGIN:VCALENDAR
VERSION:2.0
PRODID:-//Antiques And The Arts Weekly - ECPv6.15.20//NONSGML v1.0//EN
CALSCALE:GREGORIAN
METHOD:PUBLISH
X-WR-CALNAME:Antiques And The Arts Weekly
X-ORIGINAL-URL:https://antiquesandthearts.com
X-WR-CALDESC:Events for Antiques And The Arts Weekly
REFRESH-INTERVAL;VALUE=DURATION:PT1H
X-Robots-Tag:noindex
X-PUBLISHED-TTL:PT1H
BEGIN:VTIMEZONE
TZID:America/New_York
BEGIN:DAYLIGHT
TZOFFSETFROM:-0500
TZOFFSETTO:-0400
TZNAME:EDT
DTSTART:20250309T070000
END:DAYLIGHT
BEGIN:STANDARD
TZOFFSETFROM:-0400
TZOFFSETTO:-0500
TZNAME:EST
DTSTART:20251102T060000
END:STANDARD
BEGIN:DAYLIGHT
TZOFFSETFROM:-0500
TZOFFSETTO:-0400
TZNAME:EDT
DTSTART:20260308T070000
END:DAYLIGHT
BEGIN:STANDARD
TZOFFSETFROM:-0400
TZOFFSETTO:-0500
TZNAME:EST
DTSTART:20261101T060000
END:STANDARD
BEGIN:DAYLIGHT
TZOFFSETFROM:-0500
TZOFFSETTO:-0400
TZNAME:EDT
DTSTART:20270314T070000
END:DAYLIGHT
BEGIN:STANDARD
TZOFFSETFROM:-0400
TZOFFSETTO:-0500
TZNAME:EST
DTSTART:20271107T060000
END:STANDARD
END:VTIMEZONE
BEGIN:VEVENT
DTSTART;VALUE=DATE:20260320
DTEND;VALUE=DATE:20260321
DTSTAMP:20260424T075211
CREATED:20260320T163831Z
LAST-MODIFIED:20260320T163831Z
UID:1010000389-1773964800-1774051199@antiquesandthearts.com
SUMMARY:Merrill’s Auction Gallery – Arts & Crafts\, Adirondack\, & Decorative Arts Auction
DESCRIPTION:St Denis Cabinet Vase\nRare John Tiktak Inuit stone carving\nNavajo Klagetoh Eye Dazzler rug\nPr. Roycroft 3 Socket 20\nHorner NYC Bookcase\nIndian Kashan main carpet\nGustav Stickley Music Cabinet #93\nArt Nouveau Loetz Vase\nEdward Barnard (Am 1855-1909)\nRoycroft American Beauty vase\nFrench Gothic Iron Fireplace Surround\n11 Kirk sterling dinner plates 224 troy oz\nGustav Stickley bookcase #525\nLouis Vuitton trunk\nGorham Plymouth sterling silver tea set\nTiffany Gold Bracelet\n7.8 CT Emerald & Diamond Ring\nStickley Settee\nWilliam H Yorke (English 1847-1921)\nAbolitionist/suffragette autograph album “Let Freedom Ring!”\nMerrill’s Auctioneers and Appraisers is pleased to offer early Continental & Gothic Revival\, Adirondack\, & Arts & Crafts furniture. Paintings & prints from all eras including Vermont artists. Arts & Crafts copper\, bronzes\, lamps & lighting\, stained glass windows\, flutes & violins\, sterling silver\, jewelry\, fine glass\, Navajo & Oriental carpets\, Asian art\, and ceramics. Notable offerings include a collection of over 150 pieces of Arts & Crafts era copper accessories from Roycroft\, Dirk Van Erp\, & Stickley. An outstanding autograph collection of abolitionists\, suffragettes\, many with inscriptions\, including Samuel Francis Smith inscribed autograph with verses from “America” (Let Freedom Ring!)\, Julia Ward Howe\, William Lloyd Garrison\, and many others. An incredible French Gothic Manor House wrought iron fire surround. A rare Inuit stone carving by John Tiktak. A collection of nautical paintings including George Howell Gay. Adirondack decor and accessories from a up-state New York collection.\nPreview in person THURSDAY\, March 19th from 1 to 6 pm\, & FRIDAY\, March 20th from 8 am until 9:30 am sale time\, or by prior appointment. Please review our catalog through\nour on-line selling platforms- Live Auctioneers\, Invaluable\, & Auction Zip. Payment can be made with a credit card over the phone\, secure billing is provided for on-line purchases. Our third party shipper can use UPS & USPS package delivery. A list of private carriers is available for larger items\, and curbside pick-up is easily arranged.\nBID ONLINE\, IN PERSON\, BY ABSENTEE BID\, OR PHONE BID\, AND SIGN UP FOR EMAIL NOTIFICATIONS ON OUR WEBSITE:\nWWW.MERRILLSAUCTION.COM\nTERMS: Major credit cards\, wire transfer\, cash\, or approved check. All Items Sold As Is With No Implied Or Expressed Warranty.\nMERRILL’S AUCTIONEERS & APPRAISERS\nSpecializing In Estate & Antique Auctions – Four Generations Selling Since 1931\nMailing Address: PO Box 558\, Williston\, VT 05495\nConsignment Auction Gallery: 802-878-2625 • e-mail: info@merrillsauction.com \n\n								\n									\n									Tweet\n								\n							\n								\n									\n									Share\n									0\n								\n							\n								\n									\n									LinkedIn\n									0
URL:https://antiquesandthearts.com/event/merrills-auction-gallery-arts-crafts-adirondack-decorative-arts-auction/
LOCATION:Merrill’s Auction Gallery\, 137 James Brown Drive\, Williston\, VT\, United States
ATTACH;FMTTYPE=image/jpeg:https://antiquesandthearts.com/wp-content/uploads/2026/03/merrills.jpeg
END:VEVENT
END:VCALENDAR