BEGIN:VCALENDAR
VERSION:2.0
PRODID:-//Antiques And The Arts Weekly - ECPv6.15.20//NONSGML v1.0//EN
CALSCALE:GREGORIAN
METHOD:PUBLISH
X-WR-CALNAME:Antiques And The Arts Weekly
X-ORIGINAL-URL:https://antiquesandthearts.com
X-WR-CALDESC:Events for Antiques And The Arts Weekly
REFRESH-INTERVAL;VALUE=DURATION:PT1H
X-Robots-Tag:noindex
X-PUBLISHED-TTL:PT1H
BEGIN:VTIMEZONE
TZID:America/New_York
BEGIN:DAYLIGHT
TZOFFSETFROM:-0500
TZOFFSETTO:-0400
TZNAME:EDT
DTSTART:20250309T070000
END:DAYLIGHT
BEGIN:STANDARD
TZOFFSETFROM:-0400
TZOFFSETTO:-0500
TZNAME:EST
DTSTART:20251102T060000
END:STANDARD
BEGIN:DAYLIGHT
TZOFFSETFROM:-0500
TZOFFSETTO:-0400
TZNAME:EDT
DTSTART:20260308T070000
END:DAYLIGHT
BEGIN:STANDARD
TZOFFSETFROM:-0400
TZOFFSETTO:-0500
TZNAME:EST
DTSTART:20261101T060000
END:STANDARD
BEGIN:DAYLIGHT
TZOFFSETFROM:-0500
TZOFFSETTO:-0400
TZNAME:EDT
DTSTART:20270314T070000
END:DAYLIGHT
BEGIN:STANDARD
TZOFFSETFROM:-0400
TZOFFSETTO:-0500
TZNAME:EST
DTSTART:20271107T060000
END:STANDARD
END:VTIMEZONE
BEGIN:VEVENT
DTSTART;TZID=America/New_York:20260320T100000
DTEND;TZID=America/New_York:20260320T170000
DTSTAMP:20260424T002119
CREATED:20260320T161406Z
LAST-MODIFIED:20260320T161406Z
UID:1010000386-1774000800-1774026000@antiquesandthearts.com
SUMMARY:Michaan’s Auctions – March Gallery Auction
DESCRIPTION:Time: 10 am \nPreviews:\nSunday\, March 15th\, 10 am – 5 pm\nThursday\, March 19th\, noon – 5 pm\nFriday\, March 20th\, 9 am – end of auction\nWarren Chang (American\, born 1957) “Checkers at Custom Plaza”\nArchimede Seguso Glass Bowl\nIron Orbital Chandelier by Jefferson Mack Metalworks\nEmerald\, Diamond\,Yellow and White Gold Bar Brooch\nFrederick Prescott (born 1949) Route 66\nDutch Chinoiserie Painted Leather Screen\nGump’s Mia Fonssagrives-Solow Sapphire\, 14k Yellow Gold\, Sterling Silver Elephant Jewelry Suite\nChinese Export Red Lacquered and Gilt Six-Panel Screen\nGump’s Mia Fonssagrives-Solow Ruby\, 14k Yellow Gold Octopus Brooch\nChinese Gauze Embroidered Summer Robe\nFive Contemporary Bleached Oak and White Leather Bucket Seat Chairs\nChinese Hetian Jade Carved Belt Buckle\nwww.michaans.com\n(800) 380-9822 • (510) 740-0220\nShowroom: 2701 Monarch Street\,Alameda\, CA 94501\nBond #71393954 \n\n								\n									\n									Tweet\n								\n							\n								\n									\n									Share\n									0\n								\n							\n								\n									\n									LinkedIn\n									0
URL:https://antiquesandthearts.com/event/michaans-auctions-march-gallery-auction/
LOCATION:Michaan’s Auctions\, 2701 Monarch Street\, Alameda\, CA\, 94501\, United States
ATTACH;FMTTYPE=image/jpeg:https://antiquesandthearts.com/wp-content/uploads/2026/03/michaans.jpeg
END:VEVENT
END:VCALENDAR