BEGIN:VCALENDAR
VERSION:2.0
PRODID:-//Antiques And The Arts Weekly - ECPv6.15.20//NONSGML v1.0//EN
CALSCALE:GREGORIAN
METHOD:PUBLISH
X-WR-CALNAME:Antiques And The Arts Weekly
X-ORIGINAL-URL:https://antiquesandthearts.com
X-WR-CALDESC:Events for Antiques And The Arts Weekly
REFRESH-INTERVAL;VALUE=DURATION:PT1H
X-Robots-Tag:noindex
X-PUBLISHED-TTL:PT1H
BEGIN:VTIMEZONE
TZID:America/New_York
BEGIN:DAYLIGHT
TZOFFSETFROM:-0500
TZOFFSETTO:-0400
TZNAME:EDT
DTSTART:20250309T070000
END:DAYLIGHT
BEGIN:STANDARD
TZOFFSETFROM:-0400
TZOFFSETTO:-0500
TZNAME:EST
DTSTART:20251102T060000
END:STANDARD
BEGIN:DAYLIGHT
TZOFFSETFROM:-0500
TZOFFSETTO:-0400
TZNAME:EDT
DTSTART:20260308T070000
END:DAYLIGHT
BEGIN:STANDARD
TZOFFSETFROM:-0400
TZOFFSETTO:-0500
TZNAME:EST
DTSTART:20261101T060000
END:STANDARD
BEGIN:DAYLIGHT
TZOFFSETFROM:-0500
TZOFFSETTO:-0400
TZNAME:EDT
DTSTART:20270314T070000
END:DAYLIGHT
BEGIN:STANDARD
TZOFFSETFROM:-0400
TZOFFSETTO:-0500
TZNAME:EST
DTSTART:20271107T060000
END:STANDARD
END:VTIMEZONE
BEGIN:VEVENT
DTSTART;VALUE=DATE:20260428
DTEND;VALUE=DATE:20260429
DTSTAMP:20260425T201650
CREATED:20260420T192733Z
LAST-MODIFIED:20260420T192733Z
UID:1010000778-1777334400-1777420799@antiquesandthearts.com
SUMMARY:Freeman's - American Furniture\, Folk & Decorative Arts
DESCRIPTION:April 28 | Philadelphia\nfreemansauction.com \nfreemans \nLynda Cain | 267.414.1237 lyndacain@freemansauction.com\nBen Fisher | 312.447.3270 benfisher@freemansauction.com\nAndrew Taggart | 267.414.1225 andrewtaggart@freemansauction.com\nFREEMAN’S\nAMERICA’S AUCTION HOUSE SINCE 1805 \n\n								\n									\n									Tweet\n								\n							\n								\n									\n									Share\n									0\n								\n							\n								\n									\n									LinkedIn\n									0
URL:https://antiquesandthearts.com/event/freemans-american-furniture-folk-decorative-arts/
LOCATION:Philadelphia\, Philadelphia\, PA
CATEGORIES:Auctioneer Events
ATTACH;FMTTYPE=image/jpeg:https://antiquesandthearts.com/wp-content/uploads/2026/04/freemans.jpg
END:VEVENT
END:VCALENDAR