BEGIN:VCALENDAR
VERSION:2.0
PRODID:-//Antiques And The Arts Weekly - ECPv6.15.20//NONSGML v1.0//EN
CALSCALE:GREGORIAN
METHOD:PUBLISH
X-WR-CALNAME:Antiques And The Arts Weekly
X-ORIGINAL-URL:https://antiquesandthearts.com
X-WR-CALDESC:Events for Antiques And The Arts Weekly
REFRESH-INTERVAL;VALUE=DURATION:PT1H
X-Robots-Tag:noindex
X-PUBLISHED-TTL:PT1H
BEGIN:VTIMEZONE
TZID:America/New_York
BEGIN:DAYLIGHT
TZOFFSETFROM:-0500
TZOFFSETTO:-0400
TZNAME:EDT
DTSTART:20250309T070000
END:DAYLIGHT
BEGIN:STANDARD
TZOFFSETFROM:-0400
TZOFFSETTO:-0500
TZNAME:EST
DTSTART:20251102T060000
END:STANDARD
BEGIN:DAYLIGHT
TZOFFSETFROM:-0500
TZOFFSETTO:-0400
TZNAME:EDT
DTSTART:20260308T070000
END:DAYLIGHT
BEGIN:STANDARD
TZOFFSETFROM:-0400
TZOFFSETTO:-0500
TZNAME:EST
DTSTART:20261101T060000
END:STANDARD
BEGIN:DAYLIGHT
TZOFFSETFROM:-0500
TZOFFSETTO:-0400
TZNAME:EDT
DTSTART:20270314T070000
END:DAYLIGHT
BEGIN:STANDARD
TZOFFSETFROM:-0400
TZOFFSETTO:-0500
TZNAME:EST
DTSTART:20271107T060000
END:STANDARD
END:VTIMEZONE
BEGIN:VEVENT
DTSTART;VALUE=DATE:20260421
DTEND;VALUE=DATE:20260422
DTSTAMP:20260420T084152
CREATED:20260416T162916Z
LAST-MODIFIED:20260416T162916Z
UID:1010000497-1776729600-1776815999@antiquesandthearts.com
SUMMARY:Coyles Auction Inc. - Two Session Annual Spring Estates Auction
DESCRIPTION:coyles \nTuesday\, April 21\, 2026 \nRegency Ballroom at the DoubleTree Hilton \n11 Beaver St\,\, Milford\, MA 01757 \nwww.coylesauction.com \nSession 1 – 2:30pm Rugs and Curiosities \nSession 2 – 5:00pm Estates Auction\nSale to include paintings including ancestral portraits\, silver\, and Georgian furniture originally from Heath Hall\, Wakefield (West Yorkshire) England. A 15\,000 square foot country house dating from 1709 owned by prosperous wool merchant John Smyth & his descendants from their Marion\, MA home plus items drawn from various New England homes.\nNOTE: PREVIEW DAY OF AUCTION ONLY\, 9:00am to each Auction Times\nWe will be offering a fine Two Session Spring Antique Estates Auction with an eclectic and quality selection of Antique American\, English and French style furniture\, fine porcelain and pottery\, silver\, fine art\, jewelry\, and much more including lovely items drawn from large Barrington\, RI\, Sudbury\, and Brookline homes plus paintings including ancestral portraits and large group of fine antique Georgian furniture originally from Heath Hall\, Wakefield England owned by wool merchant John Smyth and his descendants from their Marion\, MA home. In addition\, private collections from Boston and Falmouth. Many diversified and fresh to the market offerings.\nPhone and absentee bids always accepted and welcome. Reasonable 15% Buyer’s Premium. No Reserves\, No online bidding. Seat Reservations are Recommended.\nCall or text 774-571-8263 or coylesauction@verizon.net\nVisit www.coylesauction.com and link to Auction Zip for more photos and descriptions.\nSale to include paintings including ancestral portraits\, silver\, and Georgian furniture originally from Heath Hall\,\nWakefield {West Yorkshire) England. A 15\,000 square foot country house dating from 1709 owned by prosperous wool merchant John Smyth & his descendants from their Marion\, MA home plus items drawn from various New England homes.\nLeroy Paris gilt skeleton mantel clock\nUnusual Black Forest style 20″ lamp\nPortrait of Lady Elizabeth Smyth daughter of the Duke of Grafton painted by George Hayter 1819 in London\nFine pair of Napoleon III ebonized ormolu side cabinets\nFine English cylinder desk\nRenaissance Revival fire screen with eagle decoration\n19thC Louis Vuitton Emballeur canvas dome top trunk with original label\, monogram JHW from attic on Beacon St. Boston\nOil on canvas portrait of ‘Diana wife of Col. J.G. Smyth of Heath 1812-1880″ p by J. Morton 1829\nWonderful 830 silver Viking Ship “Presentation Christiania” 1906 (20 ‘/i” L x 12″ H) David Andersen 1905\nWonderful American step back antique cupboard\n18th C William & Mary turned and joined leather back side chair with Spanish feet.\nFrench narrow fruitwood Louis XVI secretary desk\n17th/18thC Korean ancestral portrait descended through the Captain A.H. Parker family\nFine selection of porcelain to include Meissen as well as Richard Ginori\, Minton\, Chinese Export\, etc.\nPrivate collection of decorated Stoneware\nGeorgian bowfront chest with writing table\nPair of Chinese Provincial armchairs\nFine English Regency mahogany open bookcase with brass paw feet\nMiniature engraving of gentleman (John Smyth 1825)\nSterling large cake basket\, Shreve and Co.\, San Francisco (39 troy oz)\nPortrait of Admiral Robert FitzRoy in China Trade frame artist signed\nNantucket Friendship Basket signed Stanley Roop 1967\nAntique Italian 18thC cabinet\nChinese silk merit badge\nPortrait of Francis White (1720-1763) third daughter of General). Armstrong. Painted by F. Hayman.\nGreat lots of antique pantry boxes including Shaker\, game boards etc. from private collection\nFine porcelain including Herend\nLarge bronze sculpture “Louis XV Valet De Chasse” on marble base after P.J. Mene\n16/17thC large Spanish religious carving\nAaron Willard banjo (restored glass)\nPaul McCobb MCM room divider\nAntique English 2 slant lid desk/chest\nPortrait “Woman in White” signed Will Howe Foote Prov. Vose Galleries\nA. Edwards Ashby and Scottish antique tall clock “Patterson\, Coal Bridge” with nice dial\nHandel floor lamp\nOne of two oil still life paintings by Romek Arpad (20 x 26)\nFolk art Cat House\nPortrait Mary Elizabeth -Countess Grey\nOne of a pair of Louis XVI marble top unusual 2 door cabinets\nVan Briggle pottery vase and other pottery\n8′ Ship model of the vessel “Sachem’\nSESSION 1 AT 2:30 PM\nOriental Rugs and Curiosities: 12+ oriental carpets from estates including roomsizes\, artwork\, country primitives\, interesting estate lots\, costume jewelry and more.\nSESSION 2 AT 5:00 PM\nFURNITURE: Fine pair of Napoleon III ebonized onnolu side cabinets\, pair of Louis XVI 2 door cabinets with colored marble\, William and Mary antique Boston sidechair with leather and Spanish feet\, wonderful antique diminutive size mahogany lady’s inlaid roll top desk\, fine English Regency mahog open bookcase w/ brass paw feet. American antique tall clock by A. Edwards Ashby. MA. fine Biedermeier onnolu day bed with swans\, antique Queen Anne desk\, fine Remiaisance Revival fire screen w/ eagle decoration\, French narrow flintwood Louis XVI secretary desk\, fine Regency Rosewood 2 door cabinet. Scottish antique tall clock “Patterson\, Coal Bridge” with nice dial. Southern inlaid cherry antique chest\, pr. 19thC Rosewood side tables\, small English 2 piece slant lid chest combination\, antique Italian 18th C cabinet\, unusual Georgian bowfront chest with writing tab. “The Marshall” silver trunk with fitted interior. antique country tables and chairs including assembled set of bird cage Windsors\, stylish Rosewood carved piano stool. Federal style carved 2 piece settee set\, antique English bowfront chest\, Georgian 2 draw side cabinet\, unusual 2 draw library table w/ secret doors. 1900 Empire style console table with onnolu. New England cherry slant lid desk. Turkish tufted armchair w/ fringe. 2 American antique bowfront chests\, and more.\nITEMS OF SPECIAL INTEREST: 19thC Louis Vuitton Emballeur\ncanvas dome top trunk with original label monogram JHW from attic of Beacon St. Boston\, Nantucket Friendship Basket signed Stanley Roop 1967\, Nantucket Swing handle basket signed Joyce Romano 1993\, Victorian Stereoscope Machine (floor model)\, ETS Maxant Paris Barograph\, 8’ Ship model of the vessel “Sachem”\, cased ship model “HMS Success”\, decorative decoys/carvings. and more.\nACCESSORIES: Lovely antique gilt skeleton clock with glass dome. \, 6 branch French bronze hanging French Victorian light\, 16/17thC large Spanish religious carving. P.J. Mene large bronze sculpture “Louis XV Valet De Chasse” on marble base. Great groupings of graduated painted antique pantry boxes including oval and Shaker\, etc. 2 antique silhouettes\, 12 plus antique Stoneware crocks and jugs most with blue slip decoration Folk art hooked rug with Masonic symbols (33” x 65”)\, country primitives including shaker. Pr of Molyneux Boston Andirons\, Aaron Willard banjo clock 33” (restored glass)\, floor lamp with Handel label. 1g Roger’s Group “Coming to the Parson”. Meissen porcelain\, Chinese porcelain and lamps\, gilt bronze relief of Wellington in shadow box frame\, antique stick barometer\, Herend fish platter and floral fitted round serving piece. Richard Ginori china. Large set of Waterford crystal stemware and accessories\, Tiffany Crystal\, 2 portrait relief plasters (H. Cristina Meade)\, and much more.\nFINE SILVER AND JEWELRY: Wonderful 830 silver Viking Ship “Presentation Christiania” 1906 (20 ‘A” Lx 12” H)\, beautiful Sterling large cake basket\, Shreve and Co.\, San Francisco (39 troy oz). many sterling silver lots\, fine 14k & 18k jewelry with diamonds and stones\, sterling jewelry\, and more.\nARTWORK: Portrait of Lady Elizabeth Smyth 1819 with pillar in background. 17th/18thC Korean ancestral portrait descended through the Captain A.H. Parker family\, portrait of gentleman Irwin Hoffman (Child Gallery label). Miniature engraving of gentleman (John Smyth 1825)\, Large portrait of Francis White (1720-1763) 37” x 32”. portrait of Diana (J. Morton) wife of Colonel. J.G. Smyth 1812-1880 38” x 29”\, Portrait of Admir al Robert FitzRoy in Clrina Trade frame signed. Portrait “Woman in White” signed Will Howe Foote Prov. Vose Galleries 24” x 20”\, 2 oil still life paintings by Rornek Arpad (20 x 26)\, Pastoral river scene by J.L. Van der Meide. Frank Benson Ducks in Flight etching signed\, folk art watercolor possibly Newburyport. 2 sm F. Benson etchings. Portfolio with watercolors of Heath Hall\, Wakefield England Smythe family photos and related framed material\, nice watercolors & paintings Cape and Mairre. J.E. Eccles “The Disappointed Lover”\, “Attack at Sea” w/c by Charles Manby. 4 framed Peter Hunt lithographs\, and more.\nTERMS: M. Coyle Auction Lie 2369\, Cash/check/MC&Visa 508-733-6868\, 15% Buyer’s Premium – ABSENTEE AND PHONE BIDS WELCOME\, just call 774-571-8263 to arrange. No Online Bidding. Email: coylesauction@verizon.net____\nDIRECTIONS:\nSale held at LOCATION\nRegency Ballroom at the Double Tree Hilton\, (Exit 48 Rte 109 West) 11 Beaver St.\, Milford\, MA 01757 Restaurant and Accommodations on Premises www.coylesauction.com \n\n								\n									\n									Tweet\n								\n							\n								\n									\n									Share\n									0\n								\n							\n								\n									\n									LinkedIn\n									0
URL:https://antiquesandthearts.com/event/coyles-auction-inc-two-session-annual-spring-estates-auction/
LOCATION:Regency Ballroom at the DoubleTree Hilton 11 Beaver St\,\, Milford\, MA 01757\, Regency Ballroom at the DoubleTree Hilton 11 Beaver St\,\, Milford\, MA 01757
CATEGORIES:Auctioneer Events
ATTACH;FMTTYPE=image/jpeg:https://antiquesandthearts.com/wp-content/uploads/2026/04/coyles.jpg
END:VEVENT
END:VCALENDAR